Package: ssviz Version: 1.41.0 Command: E:\biocbuild\bbs-3.21-bioc\R\bin\R.exe CMD check --no-multiarch --install=check:ssviz.install-out.txt --library=E:\biocbuild\bbs-3.21-bioc\R\library --no-vignettes --timings ssviz_1.41.0.tar.gz StartedAt: 2025-02-10 05:54:34 -0500 (Mon, 10 Feb 2025) EndedAt: 2025-02-10 05:57:03 -0500 (Mon, 10 Feb 2025) EllapsedTime: 149.1 seconds RetCode: 0 Status: OK CheckDir: ssviz.Rcheck Warnings: 0