Package: ssviz Version: 1.41.0 Command: E:\biocbuild\bbs-3.21-bioc\R\bin\R.exe CMD INSTALL ssviz StartedAt: 2025-02-09 15:50:46 -0500 (Sun, 09 Feb 2025) EndedAt: 2025-02-09 15:51:13 -0500 (Sun, 09 Feb 2025) EllapsedTime: 27.1 seconds RetCode: 0 Status: OK