Package: stJoincount Version: 1.9.0 Maintainer: Jiarong Song MaintainerEmail: songjiar at usc.edu git_url: https://git.bioconductor.org/packages/stJoincount git_branch: devel git_last_commit: 0a115cb git_last_commit_date: 2024-10-29 11:15:44 -0500 (Tue, 29 Oct 2024)