Package: stJoincount Version: 1.9.0 Command: rm -rf stJoincount.buildbin-libdir && mkdir stJoincount.buildbin-libdir && /Users/biocbuild/BBS/utils/build-universal.sh stJoincount_1.9.0.tar.gz /Library/Frameworks/R.framework/Resources/bin/R stJoincount.buildbin-libdir StartedAt: 2025-02-09 22:32:39 -0500 (Sun, 09 Feb 2025) EndedAt: 2025-02-09 22:33:02 -0500 (Sun, 09 Feb 2025) EllapsedTime: 23.6 seconds RetCode: 0 Status: OK PackageFile: stJoincount_1.9.0.tgz PackageFileSize: 2.703 MiB