Package: stJoincount Version: 1.9.0 Command: /Library/Frameworks/R.framework/Resources/bin/R CMD INSTALL stJoincount StartedAt: 2025-02-09 15:20:54 -0500 (Sun, 09 Feb 2025) EndedAt: 2025-02-09 15:21:15 -0500 (Sun, 09 Feb 2025) EllapsedTime: 21.2 seconds RetCode: 0 Status: OK