############################################################################## ############################################################################## ### ### Running command: ### ### /home/biocbuild/R/R/bin/R CMD INSTALL stJoincount ### ############################################################################## ############################################################################## * installing to library ‘/home/biocbuild/R/R-4.5.0-devel_2024-11-24/site-library’ ERROR: dependencies ‘raster’, ‘spdep’ are not available for package ‘stJoincount’ Perhaps try a variation of: install.packages(c('raster', 'spdep')) * removing ‘/home/biocbuild/R/R-4.5.0-devel_2024-11-24/site-library/stJoincount’