Package: stJoincount Version: 1.9.0 Command: /home/biocbuild/R/R/bin/R CMD INSTALL stJoincount StartedAt: 2025-01-29 20:17:44 -0000 (Wed, 29 Jan 2025) EndedAt: 2025-01-29 20:17:45 -0000 (Wed, 29 Jan 2025) EllapsedTime: 1.0 seconds RetCode: 1 Status: ERROR