Package: stJoincount Version: 1.9.0 Command: rm -rf stJoincount.buildbin-libdir && mkdir stJoincount.buildbin-libdir && /Users/biocbuild/BBS/utils/build-universal.sh stJoincount_1.9.0.tar.gz /Library/Frameworks/R.framework/Resources/bin/R stJoincount.buildbin-libdir StartedAt: 2025-02-10 01:19:13 -0500 (Mon, 10 Feb 2025) EndedAt: 2025-02-10 01:20:34 -0500 (Mon, 10 Feb 2025) EllapsedTime: 81.1 seconds RetCode: 0 Status: OK PackageFile: stJoincount_1.9.0.tgz PackageFileSize: 2.702 MiB