Package: stJoincount Version: 1.9.0 Command: /Library/Frameworks/R.framework/Resources/bin/R CMD build --keep-empty-dirs --no-resave-data stJoincount StartedAt: 2025-02-09 18:38:29 -0500 (Sun, 09 Feb 2025) EndedAt: 2025-02-09 18:39:59 -0500 (Sun, 09 Feb 2025) EllapsedTime: 90.2 seconds RetCode: 0 Status: OK PackageFile: stJoincount_1.9.0.tar.gz PackageFileSize: 2.672 MiB