Package: stJoincount Version: 1.9.0 Command: /Library/Frameworks/R.framework/Resources/bin/R CMD check --install=check:stJoincount.install-out.txt --library=/Library/Frameworks/R.framework/Resources/library --no-vignettes --timings stJoincount_1.9.0.tar.gz StartedAt: 2025-02-12 23:42:07 -0500 (Wed, 12 Feb 2025) EndedAt: 2025-02-12 23:49:20 -0500 (Wed, 12 Feb 2025) EllapsedTime: 433.0 seconds RetCode: 0 Status: OK CheckDir: stJoincount.Rcheck Warnings: 0