Package: stJoincount Version: 1.9.0 Command: rm -rf stJoincount.buildbin-libdir && mkdir stJoincount.buildbin-libdir && E:\biocbuild\bbs-3.21-bioc\R\bin\R.exe CMD INSTALL --build --library=stJoincount.buildbin-libdir stJoincount_1.9.0.tar.gz StartedAt: 2025-02-13 08:59:43 -0500 (Thu, 13 Feb 2025) EndedAt: 2025-02-13 09:00:47 -0500 (Thu, 13 Feb 2025) EllapsedTime: 63.5 seconds RetCode: 0 Status: OK PackageFile: stJoincount_1.9.0.zip PackageFileSize: 2.643 MiB