Package: stJoincount Version: 1.9.0 Command: chmod a+r stJoincount -R && E:\biocbuild\bbs-3.21-bioc\R\bin\R.exe CMD build --keep-empty-dirs --no-resave-data stJoincount StartedAt: 2025-02-09 21:57:34 -0500 (Sun, 09 Feb 2025) EndedAt: 2025-02-09 21:59:17 -0500 (Sun, 09 Feb 2025) EllapsedTime: 103.0 seconds RetCode: 0 Status: OK PackageFile: stJoincount_1.9.0.tar.gz PackageFileSize: 2.606 MiB