Package: stJoincount Version: 1.9.0 Command: E:\biocbuild\bbs-3.21-bioc\R\bin\R.exe CMD check --no-multiarch --install=check:stJoincount.install-out.txt --library=E:\biocbuild\bbs-3.21-bioc\R\library --no-vignettes --timings stJoincount_1.9.0.tar.gz StartedAt: 2025-02-10 05:56:14 -0500 (Mon, 10 Feb 2025) EndedAt: 2025-02-10 06:04:16 -0500 (Mon, 10 Feb 2025) EllapsedTime: 481.9 seconds RetCode: 0 Status: OK CheckDir: stJoincount.Rcheck Warnings: 0