Package: staRank Version: 1.49.1 Command: E:\biocbuild\bbs-3.21-bioc\R\bin\R.exe CMD INSTALL staRank StartedAt: 2025-02-09 17:07:56 -0500 (Sun, 09 Feb 2025) EndedAt: 2025-02-09 17:07:57 -0500 (Sun, 09 Feb 2025) EllapsedTime: 0.3 seconds RetCode: 1 Status: ERROR