Package: statTarget Version: 1.37.0 Command: rm -rf statTarget.buildbin-libdir && mkdir statTarget.buildbin-libdir && /Users/biocbuild/BBS/utils/build-universal.sh statTarget_1.37.0.tar.gz /Library/Frameworks/R.framework/Resources/bin/R statTarget.buildbin-libdir StartedAt: 2025-02-09 22:32:36 -0500 (Sun, 09 Feb 2025) EndedAt: 2025-02-09 22:32:39 -0500 (Sun, 09 Feb 2025) EllapsedTime: 3.1 seconds RetCode: 0 Status: OK PackageFile: statTarget_1.37.0.tgz PackageFileSize: 973.1 KiB