Package: statTarget Version: 1.37.0 Command: /Library/Frameworks/R.framework/Resources/bin/R CMD build --keep-empty-dirs --no-resave-data statTarget StartedAt: 2025-02-09 17:44:43 -0500 (Sun, 09 Feb 2025) EndedAt: 2025-02-09 17:44:48 -0500 (Sun, 09 Feb 2025) EllapsedTime: 5.1 seconds RetCode: 0 Status: OK PackageFile: statTarget_1.37.0.tar.gz PackageFileSize: 779.1 KiB