Package: statTarget Version: 1.37.0 Command: /Library/Frameworks/R.framework/Resources/bin/R CMD check --install=check:statTarget.install-out.txt --library=/Library/Frameworks/R.framework/Resources/library --no-vignettes --timings statTarget_1.37.0.tar.gz StartedAt: 2025-02-03 22:13:29 -0500 (Mon, 03 Feb 2025) EndedAt: 2025-02-03 22:13:47 -0500 (Mon, 03 Feb 2025) EllapsedTime: 18.2 seconds RetCode: 0 Status: OK CheckDir: statTarget.Rcheck Warnings: 0