Package: statTarget Version: 1.37.0 Command: /Library/Frameworks/R.framework/Resources/bin/R CMD INSTALL statTarget StartedAt: 2025-02-09 15:07:44 -0500 (Sun, 09 Feb 2025) EndedAt: 2025-02-09 15:08:10 -0500 (Sun, 09 Feb 2025) EllapsedTime: 26.2 seconds RetCode: 0 Status: OK