Package: statTarget Version: 1.37.0 Command: /home/biocbuild/bbs-3.21-bioc/R/bin/R CMD build --keep-empty-dirs --no-resave-data statTarget StartedAt: 2025-02-03 19:38:09 -0500 (Mon, 03 Feb 2025) EndedAt: 2025-02-03 19:38:19 -0500 (Mon, 03 Feb 2025) EllapsedTime: 10.0 seconds RetCode: 0 Status: OK PackageFile: statTarget_1.37.0.tar.gz PackageFileSize: 779.1 KiB