Package: statTarget Version: 1.37.0 Command: /home/biocbuild/bbs-3.21-bioc/R/bin/R CMD check --install=check:statTarget.install-out.txt --library=/home/biocbuild/bbs-3.21-bioc/R/site-library --timings statTarget_1.37.0.tar.gz StartedAt: 2025-02-04 03:14:04 -0500 (Tue, 04 Feb 2025) EndedAt: 2025-02-04 03:14:46 -0500 (Tue, 04 Feb 2025) EllapsedTime: 42.0 seconds RetCode: 0 Status: OK CheckDir: statTarget.Rcheck Warnings: 0