Package: statTarget Version: 1.37.0 Command: chmod a+r statTarget -R && E:\biocbuild\bbs-3.21-bioc\R\bin\R.exe CMD build --keep-empty-dirs --no-resave-data statTarget StartedAt: 2025-02-04 21:59:13 -0500 (Tue, 04 Feb 2025) EndedAt: 2025-02-04 21:59:44 -0500 (Tue, 04 Feb 2025) EllapsedTime: 31.7 seconds RetCode: 0 Status: OK PackageFile: statTarget_1.37.0.tar.gz PackageFileSize: 779.3 KiB