Package: statTarget Version: 1.37.0 Command: E:\biocbuild\bbs-3.21-bioc\R\bin\R.exe CMD check --no-multiarch --install=check:statTarget.install-out.txt --library=E:\biocbuild\bbs-3.21-bioc\R\library --no-vignettes --timings statTarget_1.37.0.tar.gz StartedAt: 2025-02-05 06:19:31 -0500 (Wed, 05 Feb 2025) EndedAt: 2025-02-05 06:20:29 -0500 (Wed, 05 Feb 2025) EllapsedTime: 57.2 seconds RetCode: 0 Status: OK CheckDir: statTarget.Rcheck Warnings: 0