Package: statTarget Version: 1.37.0 Command: E:\biocbuild\bbs-3.21-bioc\R\bin\R.exe CMD INSTALL statTarget StartedAt: 2025-02-04 15:25:35 -0500 (Tue, 04 Feb 2025) EndedAt: 2025-02-04 15:26:02 -0500 (Tue, 04 Feb 2025) EllapsedTime: 27.5 seconds RetCode: 0 Status: OK