Package: strandCheckR Version: 1.25.0 Command: /Library/Frameworks/R.framework/Resources/bin/R CMD INSTALL strandCheckR StartedAt: 2025-02-04 15:14:50 -0500 (Tue, 04 Feb 2025) EndedAt: 2025-02-04 15:15:04 -0500 (Tue, 04 Feb 2025) EllapsedTime: 14.1 seconds RetCode: 0 Status: OK