Package: strandCheckR Version: 1.25.0 Command: /Library/Frameworks/R.framework/Resources/bin/R CMD INSTALL strandCheckR StartedAt: 2025-02-12 15:23:47 -0500 (Wed, 12 Feb 2025) EndedAt: 2025-02-12 15:24:35 -0500 (Wed, 12 Feb 2025) EllapsedTime: 47.9 seconds RetCode: 0 Status: OK