Package: strandCheckR Version: 1.25.0 Command: /home/biocbuild/bbs-3.21-bioc/R/bin/R CMD INSTALL strandCheckR StartedAt: 2025-02-09 15:55:49 -0500 (Sun, 09 Feb 2025) EndedAt: 2025-02-09 15:56:25 -0500 (Sun, 09 Feb 2025) EllapsedTime: 36.4 seconds RetCode: 0 Status: OK