Package: strandCheckR Version: 1.25.0 Command: E:\biocbuild\bbs-3.21-bioc\R\bin\R.exe CMD check --no-multiarch --install=check:strandCheckR.install-out.txt --library=E:\biocbuild\bbs-3.21-bioc\R\library --no-vignettes --timings strandCheckR_1.25.0.tar.gz StartedAt: 2025-02-10 05:56:19 -0500 (Mon, 10 Feb 2025) EndedAt: 2025-02-10 06:01:36 -0500 (Mon, 10 Feb 2025) EllapsedTime: 316.9 seconds RetCode: 0 Status: OK CheckDir: strandCheckR.Rcheck Warnings: 0