Package: structToolbox Version: 1.19.1 Command: /Library/Frameworks/R.framework/Resources/bin/R CMD check --install=check:structToolbox.install-out.txt --library=/Library/Frameworks/R.framework/Resources/library --no-vignettes --timings structToolbox_1.19.1.tar.gz StartedAt: 2025-02-12 21:43:26 -0500 (Wed, 12 Feb 2025) EndedAt: 2025-02-12 21:46:03 -0500 (Wed, 12 Feb 2025) EllapsedTime: 156.9 seconds RetCode: 0 Status: OK CheckDir: structToolbox.Rcheck Warnings: 0