Package: structToolbox Version: 1.19.1 Command: /home/biocbuild/R/R/bin/R CMD INSTALL structToolbox StartedAt: 2025-01-29 19:40:46 -0000 (Wed, 29 Jan 2025) EndedAt: 2025-01-29 19:41:35 -0000 (Wed, 29 Jan 2025) EllapsedTime: 49.3 seconds RetCode: 0 Status: OK