Package: structToolbox Version: 1.19.1 Command: rm -rf structToolbox.buildbin-libdir && mkdir structToolbox.buildbin-libdir && /Users/biocbuild/BBS/utils/build-universal.sh structToolbox_1.19.1.tar.gz /Library/Frameworks/R.framework/Resources/bin/R structToolbox.buildbin-libdir StartedAt: 2025-02-05 01:05:07 -0500 (Wed, 05 Feb 2025) EndedAt: 2025-02-05 01:05:59 -0500 (Wed, 05 Feb 2025) EllapsedTime: 52.1 seconds RetCode: 0 Status: OK PackageFile: structToolbox_1.19.1.tgz PackageFileSize: 5.597 MiB