Package: structToolbox Version: 1.19.1 Command: /Library/Frameworks/R.framework/Resources/bin/R CMD build --keep-empty-dirs --no-resave-data structToolbox StartedAt: 2025-02-09 18:38:52 -0500 (Sun, 09 Feb 2025) EndedAt: 2025-02-09 18:50:50 -0500 (Sun, 09 Feb 2025) EllapsedTime: 718.2 seconds RetCode: 0 Status: OK PackageFile: structToolbox_1.19.1.tar.gz PackageFileSize: 4.905 MiB