Package: structToolbox Version: 1.19.1 Command: /home/biocbuild/bbs-3.21-bioc/R/bin/R CMD INSTALL structToolbox StartedAt: 2025-02-09 15:31:26 -0500 (Sun, 09 Feb 2025) EndedAt: 2025-02-09 15:32:02 -0500 (Sun, 09 Feb 2025) EllapsedTime: 36.7 seconds RetCode: 0 Status: OK