Package: structToolbox Version: 1.19.1 Command: chmod a+r structToolbox -R && E:\biocbuild\bbs-3.21-bioc\R\bin\R.exe CMD build --keep-empty-dirs --no-resave-data structToolbox StartedAt: 2025-02-09 21:58:18 -0500 (Sun, 09 Feb 2025) EndedAt: 2025-02-09 22:11:22 -0500 (Sun, 09 Feb 2025) EllapsedTime: 783.6 seconds RetCode: 0 Status: OK PackageFile: structToolbox_1.19.1.tar.gz PackageFileSize: 3.413 MiB