Package: subSeq Version: 1.37.0 Command: /home/biocbuild/R/R/bin/R CMD build --keep-empty-dirs --no-resave-data subSeq StartedAt: 2025-01-28 02:47:34 -0000 (Tue, 28 Jan 2025) EndedAt: 2025-01-28 02:48:29 -0000 (Tue, 28 Jan 2025) EllapsedTime: 55.0 seconds RetCode: 0 Status: OK PackageFile: subSeq_1.37.0.tar.gz PackageFileSize: 2.98 MiB