Package: subSeq Version: 1.37.0 Command: /Library/Frameworks/R.framework/Resources/bin/R CMD check --install=check:subSeq.install-out.txt --library=/Library/Frameworks/R.framework/Resources/library --no-vignettes --timings subSeq_1.37.0.tar.gz StartedAt: 2025-02-09 23:58:51 -0500 (Sun, 09 Feb 2025) EndedAt: 2025-02-10 00:01:22 -0500 (Mon, 10 Feb 2025) EllapsedTime: 151.5 seconds RetCode: 0 Status: OK CheckDir: subSeq.Rcheck Warnings: 0