Package: subSeq Version: 1.37.0 Command: /Library/Frameworks/R.framework/Resources/bin/R CMD INSTALL subSeq StartedAt: 2025-02-09 15:14:55 -0500 (Sun, 09 Feb 2025) EndedAt: 2025-02-09 15:15:08 -0500 (Sun, 09 Feb 2025) EllapsedTime: 12.8 seconds RetCode: 0 Status: OK