Package: subSeq Version: 1.37.0 Command: /home/biocbuild/bbs-3.21-bioc/R/bin/R CMD build --keep-empty-dirs --no-resave-data subSeq StartedAt: 2025-02-09 19:30:46 -0500 (Sun, 09 Feb 2025) EndedAt: 2025-02-09 19:31:21 -0500 (Sun, 09 Feb 2025) EllapsedTime: 35.0 seconds RetCode: 0 Status: OK PackageFile: subSeq_1.37.0.tar.gz PackageFileSize: 2.917 MiB