Package: surfaltr Version: 1.13.0 Command: /Library/Frameworks/R.framework/Resources/bin/R CMD build --keep-empty-dirs --no-resave-data surfaltr StartedAt: 2025-02-09 17:45:40 -0500 (Sun, 09 Feb 2025) EndedAt: 2025-02-09 17:45:51 -0500 (Sun, 09 Feb 2025) EllapsedTime: 11.1 seconds RetCode: 0 Status: OK PackageFile: surfaltr_1.13.0.tar.gz PackageFileSize: 3.052 MiB