Package: surfaltr Version: 1.13.0 Command: /Library/Frameworks/R.framework/Resources/bin/R CMD check --install=check:surfaltr.install-out.txt --library=/Library/Frameworks/R.framework/Resources/library --no-vignettes --timings surfaltr_1.13.0.tar.gz StartedAt: 2025-02-09 21:39:23 -0500 (Sun, 09 Feb 2025) EndedAt: 2025-02-09 21:40:08 -0500 (Sun, 09 Feb 2025) EllapsedTime: 44.5 seconds RetCode: 0 Status: OK CheckDir: surfaltr.Rcheck Warnings: 0