Package: surfaltr Version: 1.13.0 Command: /home/biocbuild/R/R/bin/R CMD build --keep-empty-dirs --no-resave-data surfaltr StartedAt: 2025-01-28 02:48:18 -0000 (Tue, 28 Jan 2025) EndedAt: 2025-01-28 02:48:54 -0000 (Tue, 28 Jan 2025) EllapsedTime: 36.0 seconds RetCode: 0 Status: OK PackageFile: surfaltr_1.13.0.tar.gz PackageFileSize: 3.118 MiB