Package: surfaltr Version: 1.13.0 Command: /home/biocbuild/bbs-3.21-bioc/R/bin/R CMD build --keep-empty-dirs --no-resave-data surfaltr StartedAt: 2025-02-04 19:28:45 -0500 (Tue, 04 Feb 2025) EndedAt: 2025-02-04 19:29:10 -0500 (Tue, 04 Feb 2025) EllapsedTime: 25.0 seconds RetCode: 0 Status: OK PackageFile: surfaltr_1.13.0.tar.gz PackageFileSize: 3.051 MiB