Package: surfaltr Version: 1.13.0 Command: /home/biocbuild/bbs-3.21-bioc/R/bin/R CMD check --install=check:surfaltr.install-out.txt --library=/home/biocbuild/bbs-3.21-bioc/R/site-library --timings surfaltr_1.13.0.tar.gz StartedAt: 2025-02-05 03:18:37 -0500 (Wed, 05 Feb 2025) EndedAt: 2025-02-05 03:20:40 -0500 (Wed, 05 Feb 2025) EllapsedTime: 122.2 seconds RetCode: 0 Status: OK CheckDir: surfaltr.Rcheck Warnings: 0