Package: surfaltr Version: 1.13.0 Command: rm -rf surfaltr.buildbin-libdir && mkdir surfaltr.buildbin-libdir && E:\biocbuild\bbs-3.21-bioc\R\bin\R.exe CMD INSTALL --build --library=surfaltr.buildbin-libdir surfaltr_1.13.0.tar.gz StartedAt: 2025-02-13 09:00:14 -0500 (Thu, 13 Feb 2025) EndedAt: 2025-02-13 09:00:39 -0500 (Thu, 13 Feb 2025) EllapsedTime: 25.9 seconds RetCode: 0 Status: OK PackageFile: surfaltr_1.13.0.zip PackageFileSize: 1.845 MiB