Package: surfaltr Version: 1.13.0 Command: chmod a+r surfaltr -R && E:\biocbuild\bbs-3.21-bioc\R\bin\R.exe CMD build --keep-empty-dirs --no-resave-data surfaltr StartedAt: 2025-02-12 22:06:40 -0500 (Wed, 12 Feb 2025) EndedAt: 2025-02-12 22:07:23 -0500 (Wed, 12 Feb 2025) EllapsedTime: 43.2 seconds RetCode: 0 Status: OK PackageFile: surfaltr_1.13.0.tar.gz PackageFileSize: 3.051 MiB