Package: survcomp Version: 1.57.0 Command: /Library/Frameworks/R.framework/Resources/bin/R CMD build --keep-empty-dirs --no-resave-data survcomp StartedAt: 2025-02-12 18:31:45 -0500 (Wed, 12 Feb 2025) EndedAt: 2025-02-12 18:32:09 -0500 (Wed, 12 Feb 2025) EllapsedTime: 23.9 seconds RetCode: 0 Status: OK PackageFile: survcomp_1.57.0.tar.gz PackageFileSize: 638.3 KiB