Package: survcomp Version: 1.57.0 Command: /Library/Frameworks/R.framework/Resources/bin/R CMD check --install=check:survcomp.install-out.txt --library=/Library/Frameworks/R.framework/Resources/library --no-vignettes --timings survcomp_1.57.0.tar.gz StartedAt: 2025-02-10 00:00:00 -0500 (Mon, 10 Feb 2025) EndedAt: 2025-02-10 00:01:13 -0500 (Mon, 10 Feb 2025) EllapsedTime: 73.5 seconds RetCode: 0 Status: WARNINGS CheckDir: survcomp.Rcheck Warnings: 1