Package: survcomp Version: 1.57.0 Command: rm -rf survcomp.buildbin-libdir && mkdir survcomp.buildbin-libdir && E:\biocbuild\bbs-3.21-bioc\R\bin\R.exe CMD INSTALL --build --library=survcomp.buildbin-libdir survcomp_1.57.0.tar.gz StartedAt: 2025-02-10 08:49:36 -0500 (Mon, 10 Feb 2025) EndedAt: 2025-02-10 08:50:03 -0500 (Mon, 10 Feb 2025) EllapsedTime: 27.0 seconds RetCode: 0 Status: OK PackageFile: survcomp_1.57.0.zip PackageFileSize: 855.8 KiB