Package: survcomp Version: 1.57.0 Command: chmod a+r survcomp -R && E:\biocbuild\bbs-3.21-bioc\R\bin\R.exe CMD build --keep-empty-dirs --no-resave-data survcomp StartedAt: 2025-02-09 21:59:48 -0500 (Sun, 09 Feb 2025) EndedAt: 2025-02-09 22:00:31 -0500 (Sun, 09 Feb 2025) EllapsedTime: 43.3 seconds RetCode: 0 Status: OK PackageFile: survcomp_1.57.0.tar.gz PackageFileSize: 594.4 KiB