Package: survcomp Version: 1.57.0 Command: E:\biocbuild\bbs-3.21-bioc\R\bin\R.exe CMD check --no-multiarch --install=check:survcomp.install-out.txt --library=E:\biocbuild\bbs-3.21-bioc\R\library --no-vignettes --timings survcomp_1.57.0.tar.gz StartedAt: 2025-02-10 06:00:32 -0500 (Mon, 10 Feb 2025) EndedAt: 2025-02-10 06:01:54 -0500 (Mon, 10 Feb 2025) EllapsedTime: 81.6 seconds RetCode: 0 Status: OK CheckDir: survcomp.Rcheck Warnings: 0