Package: survcomp Version: 1.57.0 Command: E:\biocbuild\bbs-3.21-bioc\R\bin\R.exe CMD INSTALL survcomp StartedAt: 2025-02-09 16:05:57 -0500 (Sun, 09 Feb 2025) EndedAt: 2025-02-09 16:07:42 -0500 (Sun, 09 Feb 2025) EllapsedTime: 105.4 seconds RetCode: 0 Status: OK